BEGIN:VCALENDAR
VERSION:2.0
PRODID:-//Squarespace Inc/Squarespace 6//v6//EN
BEGIN:VEVENT
UID:5f8113b07761ab2128d5344c@squarespace.com
DTSTAMP:20201216T050640Z
DTSTART:20201206T020000Z
DTEND:20201225T030000Z
SUMMARY:BUSKING
END:VEVENT
END:VCALENDAR
