BEGIN:VCALENDAR
VERSION:2.0
PRODID:-//Squarespace Inc/Squarespace 6//v6//EN
BEGIN:VEVENT
UID:5f7f708964ea4e0efee0083d@squarespace.com
DTSTAMP:20201008T204209Z
DTSTART:20201128T233000Z
DTEND:20201129T020000Z
SUMMARY:Spooks and Sparks - Henderson Trust Arena
END:VEVENT
END:VCALENDAR
