BEGIN:VCALENDAR
VERSION:2.0
PRODID:-//Squarespace Inc/Squarespace 6//v6//EN
BEGIN:VEVENT
UID:5f7f6f2c19243d268d5ba3b4@squarespace.com
DTSTAMP:20201010T013147Z
DTSTART:20201205T213000Z
DTEND:20201205T230000Z
SUMMARY:Everybody Sings - For the City
END:VEVENT
END:VCALENDAR
